Workbook
Name \a: #REF!
Name \a: #REF!
Name \a: #REF!
Name \a: #REF!
Name \a: #REF!
Name \a: #REF!
Name \a: #REF!
Name \a: #REF!
Name \a: #REF!
Name \m: #REF!
Name \m: #REF!
Name \m: #REF!
Name \m: #REF!
Name \m: #REF!
Name \m: #REF!
Name \m: #REF!
Name \m: #REF!
Name \m: #REF!
Name \n: #REF!
Name \n: #REF!
Name \n: #REF!
Name \n: #REF!
Name \n: #REF!
Name \n: #REF!
Name \n: #REF!
Name \n: #REF!
Name \n: #REF!
Name \o: #REF!
Name \o: #REF!
Name \o: #REF!
Name \o: #REF!
Name \o: #REF!
Name \o: #REF!
Name \o: #REF!
Name \o: #REF!
Name \o: #REF!
Name __5450_01: #REF!
Name __5450_01: #REF!
Name __5450_01: #REF!
Name __5450_01: #REF!
Name __5450_01: #REF!
Name __5450_01: #REF!
Name __5450_01: #REF!
Name __5450_01: #REF!
Name __5450_01: #REF!
Name __5456_n: #REF!
Name __5456_n: #REF!
Name __5456_n: #REF!
Name __5456_n: #REF!
Name __5456_n: #REF!
Name __5456_n: #REF!
Name __5456_n: #REF!
Name __5456_n: #REF!
Name __5456_n: #REF!
Name __SP1: [1]FES!#REF!
Name __SP1: [1]FES!#REF!
Name __SP1: [1]FES!#REF!
Name __SP1: [1]FES!#REF!
Name __SP1: [1]FES!#REF!
Name __SP1: [1]FES!#REF!

Sheet текущ ремонт (2)
A1: Филиал АОО "Назарбаев Интеллектуальные школы" г. Астана 2013 г.
A3: Текущий ремонт и обслуживание спец. технического оборудования, устройств приборов на 2013 год
G4: 1.08
A5: № | B5: Заправка и ремонт картриджей | C5: кол-во | D5: цена | E5: сумма | F5: АУП | G5: ПП
A6: 1 | B6: заправка картриджей | C6: 1545.78 | D6: =800*G4 -> 864 | E6: =SUM(C6*D6) -> 1335553.9 | F6: =SUM(E6)*10% -> 133555.39 | G6: =E6-F6 -> 1201998.5
A7: 2 | B7: заправка картриджей Canon IR2520 | C7: 58.32 | D7: =9800*G4 -> 10584 | E7: =SUM(C7*D7) -> 617258.88 | F7: =SUM(E7)*10% -> 61725.888 | G7: =E7-F7 -> 555532.99
A8: 3 | B8: Замена барабана | C8: 41.16 | D8: =1500*G4 -> 1620 | E8: =SUM(C8*D8) -> 66679.2 | F8: =SUM(E8)*10% -> 6667.92 | G8: =E8-F8 -> 60011.28
A9: 4 | B9: замена термопленки Canon IR2520 | C9: 14.58 | D9: =9400*G4 -> 10152 | E9: =SUM(C9*D9) -> 148016.16 | F9: =SUM(E9)*10% -> 14801.616 | G9: =E9-F9 -> 133214.54
A10: 5 | B10: Замена резинового вала | C10: 43.74 | D10: =1200*G4 -> 1296 | E10: =SUM(C10*D10) -> 56687.04 | F10: =SUM(E10)*10% -> 5668.704 | G10: =E10-F10 -> 51018.336
A11: 6 | B11: Замена ракеля | C11: 43.74 | D11: =800*G4 -> 864 | E11: =SUM(C11*D11) -> 37791.36 | F11: =SUM(E11)*10% -> 3779.136 | G11: =E11-F11 -> 34012.224
A12: 7 | B12: Замена магнитного вала | C12: 43.74 | D12: =1500*G4 -> 1620 | E12: =SUM(C12*D12) -> 70858.8 | F12: =SUM(E12)*10% -> 7085.88 | G12: =E12-F12 -> 63772.92
A13: 8 | B13: замена термопленки | C13: 43.74 | D13: =3200*G4 -> 3456 | E13: =SUM(C13*D13) -> 151165.44 | F13: =SUM(E13)*10% -> 15116.544 | G13: =E13-F13 -> 136048.9
A14: 9 | B14: замена прижимного вала | C14: 43.74 | D14: =2400*G4 -> 2592 | E14: =SUM(C14*D14) -> 113374.08 | F14: =SUM(E14)*10% -> 11337.408 | G14: =E14-F14 -> 102036.67
A15: 10 | B15: техническое обслуживание | C15: 43.74 | D15: =1800*G4 -> 1944 | E15: =SUM(C15*D15) -> 85030.56 | F15: =SUM(E15)*10% -> 8503.056 | G15: =E15-F15 -> 76527.504
A16: 11 | B16: техническое обслуживание IR2520 | C16: 14.58 | D16: =3200*G4 -> 3456 | E16: =SUM(C16*D16) -> 50388.48 | F16: =SUM(E16)*10% -> 5038.848 | G16: =E16-F16 -> 45349.632
B17: Итого | C17: =SUM(C6:C16) -> 1936.86 | D17: =SUM(D6:D16) -> 38448 | E17: =SUM(E6:E16) -> 2732803.9 | F17: =SUM(F6:F16) -> 273280.39 | G17: =SUM(G6:G9) -> 1950757.3
E18: в т.ч | F18: =SUM(F17*12)/112 -> 29280.042
G27: интернат
A28: Текущий ремонт и обслуживание спец. технического оборудования, устройств приборов на 2013 год
G29: 1.08
A30: № | B30: Заправка и ремонт картриджей | C30: кол-во | D30: цена | E30: сумма | F30: АУП | G30: ПП
A31: 1 | B31: заправка картриджей | C31: 246 | D31: =800*G29 -> 864 | E31: =SUM(C31*D31) -> 212544 | F31: =SUM(E31)*43% -> 91393.92 | G31: =E31-F31 -> 121150.08
A32: 2 | B32: заправка картриджей Canon IR2520 | C32: 24 | D32: =9800*G29 -> 10584 | E32: =SUM(C32*D32) -> 254016 | F32: =SUM(E32)*43% -> 109226.88 | G32: =E32-F32 -> 144789.12
A33: 3 | B33: Замена барабана | C33: 12 | D33: =1500*G29 -> 1620 | E33: =SUM(C33*D33) -> 19440 | F33: =SUM(E33)*43% -> 8359.2 | G33: =E33-F33 -> 11080.8
A34: 4 | B34: замена термопленки Canon IR2520 | C34: 6 | D34: =9400*G29 -> 10152 | E34: =SUM(C34*D34) -> 60912 | F34: =SUM(E34)*43% -> 26192.16 | G34: =E34-F34 -> 34719.84
A35: 5 | B35: Замена резинового вала | C35: 18 | D35: =1200*G29 -> 1296 | E35: =SUM(C35*D35) -> 23328 | F35: =SUM(E35)*43% -> 10031.04 | G35: =E35-F35 -> 13296.96
A36: 6 | B36: Замена ракеля | C36: 18 | D36: =800*G29 -> 864 | E36: =SUM(C36*D36) -> 15552 | F36: =SUM(E36)*43% -> 6687.36 | G36: =E36-F36 -> 8864.64
A37: 7 | B37: Замена магнитного вала | C37: 18 | D37: =1500*G29 -> 1620 | E37: =SUM(C37*D37) -> 29160 | F37: =SUM(E37)*43% -> 12538.8 | G37: =E37-F37 -> 16621.2
A38: 8 | B38: замена термопленки | C38: 18 | D38: =3200*G29 -> 3456 | E38: =SUM(C38*D38) -> 62208 | F38: =SUM(E38)*43% -> 26749.44 | G38: =E38-F38 -> 35458.56
A39: 9 | B39: замена прижимного вала | C39: 18 | D39: =2400*G29 -> 2592 | E39: =SUM(C39*D39) -> 46656 | F39: =SUM(E39)*43% -> 20062.08 | G39: =E39-F39 -> 26593.92
A40: 10 | B40: техническое обслуживание | C40: 18 | D40: =1800*G29 -> 1944 | E40: =SUM(C40*D40) -> 34992 | F40: =SUM(E40)*43% -> 15046.56 | G40: =E40-F40 -> 19945.44
A41: 11 | B41: техническое обслуживание IR2520 | C41: 6 | D41: =3200*G29 -> 3456 | E41: =SUM(C41*D41) -> 20736 | F41: =SUM(E41)*43% -> 8916.48 | G41: =E41-F41 -> 11819.52
B42: Итого | C42: =SUM(C31:C41) -> 402 | D42: =SUM(D31:D41) -> 38448 | E42: =SUM(E31:E41) -> 779544 | F42: =SUM(F31:F41) -> 335203.92 | G42: =SUM(G31:G41) -> 444340.08
E43: в т.ч | F43: =SUM(F42*12)/112 -> 35914.706
B46: Директор | F46: Жангозин А.К.
B48: Главный бухгалтер | F48: Жумабаева Б.Х.
B50: Экономист | F50: Доспаева С.Ж.

Sheet свод 4 (МБ+ШК+ИНТЕР)
E1: Утверждаю Председатель Правления
E2: АОО "Назарбаев Интеллектуальные школы"
E3: _____________ К.Шамшидинова
E4: "_____"______________2012 г.
C6: Утвержденный бюджет филиала "Назарбаев Интеллектуальная школа города Астаны " на 2013 год.
C9: № п/п | D9: Наименование статей | E9: НИШ г. Астана 2013 год, ВСЕГО
C14: 1 | D14: 2
C15: I | D15: Остаток средств на начало года | E15: =#REF! -> #REF!
C16: II | D16: Доходы, всего | E16: =#REF! -> #REF!
C17: III | D17: Расходы, всего | E17: =E18+E19+E20+E21+E22+E23+E24+E25+E26+E27+E28+E29+E30+E31+E32+E33+E34+E35+E36+E37+E38+E39+E40+E41+E42 -> #REF!
C18: 1 | D18: Оплата труда | E18: =#REF! -> #REF!
C19: 2 | D19: Отчисления от оплаты труда | E19: =#REF! -> #REF!
C20: 3 | D20: Запасы | E20: =#REF! -> #REF!
C21: 4 | D21: Коммунальные услуги | E21: =#REF! -> #REF!
C22: 5 | D22: Связь | E22: =#REF! -> #REF!
C23: 6 | D23: Командировочные расходы | E23: =#REF! -> #REF!
C24: 7 | D24: Оплата работ (услуг) произведенных подрядчиками (юридические и физические лица) | E24: =#REF! -> #REF!
C25: 8 | D25: Страхование | E25: =#REF! -> #REF!
C26: 9 | D26: Медицинское обслуживание | E26: =#REF! -> #REF!
C27: 10 | D27: Услуги почты | E27: =#REF! -> #REF!
C28: 11 | D28: Услуги по охране | E28: =#REF! -> #REF!
C29: 14 | D29: Информационные услуги | E29: =#REF! -> #REF!
C30: 16 | D30: Банковские услуги | E30: =#REF! -> #REF!
C31: 20 | D31: Транспортные услуги | E31: =#REF! -> #REF!
C32: 21 | D32: Периодические печатные издания | E32: =#REF! -> #REF!
C33: 22 | D33: Налоги и другие обязательные платежи в бюджет | E33: =#REF! -> #REF!
C34: 23 | D34: Операционная аренда | E34: =#REF! -> #REF!
C35: 24 | D35: Противопожарная охрана и затраты, связанные с соблюдением специальных требований | E35: =#REF! -> #REF!
C36: 25 | D36: Обучение и повышение квалификации персонала | E36: =#REF! -> #REF!
C37: 26 | D37: Дополнительные образовательные услуги в ИШПП | E37: =#REF! -> #REF!
C38: 28 | D38: Расходы на участие и проведение семинаров, круглых столов, конференций и т.п. | E38: =#REF! -> #REF!
C39: 29 | D39: Расходы на социальную сферу | E39: =#REF! -> #REF!
C40: 31 | D40: Прочие | E40: =#REF! -> #REF!
C41: 32 | D41: Приобретение оборудования и других основных средств (ОС) | E41: =#REF! -> #REF!
C42: 33 | D42: Приобретение прочих фиксированных активов | E42: =#REF! -> #REF!
C43: 37 | D43: Амортизация и износ основных средств | E43: =#REF! -> #REF!
D44: Итого расходов | E44: =E18+E19+E20+E21+E22+E23+E24+E25+E26+E27+E28+E29+E30+E31+E32+E33+E34+E35+E36+E37+E38+E39+E40+E41+E42 -> #REF!
C45: 38 | D45: Закрытие обязательств прошлых лет | E45: =#REF! -> #REF!
C46: 39 | D46: Курсовая разница | E46: 0
C47: 40 | D47: Накладные расходы | E47: 0
...

Sheet свод 3(МБ+ШК+ИНТЕР)
C1: Утверждаю Председатель Правления
C2: АОО "Назарбаев Интеллектуальные школы"
C3: _____________ К.Шамшидинова
C4: "_____"______________2012 г.
A7: Утвержденныый бюджет филиала "Назарбаев Интеллектуальная школа города Астаны " на 2013 год.
A10: № п/п | B10: Наименование статей | C10: НИШ г. Астана 2012 год, ВСЕГО
A15: 1 | B15: 2
A16: I | B16: Остаток средств на начало года | C16: =#REF! -> #REF!
A17: II | B17: Доходы, всего | C17: =C18+C20+C21 -> #REF!
A18: 1 | B18: Плата за образовательные услуги | C18: =C19 -> #REF!
A19: 1.1 | B19: За счёт средств республиканского бюджета | C19: =#REF! -> #REF!
A20: 3 | B20: Проведение мероприятий, связанных с деятельностью образовательных комплексов | C20: =#REF! -> #REF!
A21: 5 | B21: Прочий доход | C21: =C22 -> #REF!
A22: 5.2.4 | B22: прочие доходы | C22: =#REF! -> #REF!
A23: III | B23: Расходы, всего | C23: =C24+C33+C36+C52+C57+C62+C72+C85+C89+C90+C91+C92+C93+C94+C95+C101+C104+C105+C108+C111+C113+C115+C119+C121+C96 -> #REF!
A24: 1 | B24: Оплата труда | C24: =C25+C26+C27+C28+C29+C30+C31+C32 -> #REF!
A25: 1.1 | B25: Заработная плата | C25: =#REF! -> #REF!
A26: 1.2 | B26: Доплаты и надбавки к заработной плате | C26: =#REF! -> #REF!
A27: 1.3 | B27: Премии по итогам работы | C27: =#REF! -> #REF!
A28: 1.4 | B28: Премии к праздникам | C28: 0
A29: 1.5 | B29: Лечебное пособие к отпуску | C29: =#REF! -> #REF!
A30: 1.6 | B30: Материальная помощь | C30: 0
A31: 1.7 | B31: Индивидуальный подоходный налог | C31: =#REF! -> #REF!
A32: 1.8 | B32: Выплаты в накопительный пенсионный фонд | C32: =#REF! -> #REF!
A33: 2 | B33: Отчисления от оплаты труда | C33: =C34+C35 -> #REF!
A34: 2.1 | B34: Социальный налог | C34: =#REF! -> #REF!
A35: 2.2 | B35: Социальное страхование | C35: =#REF! -> #REF!
A36: 3 | B36: Запасы | C36: =C37+C40+C41+C42+C43+C44+C45+C48 -> #REF!
A37: 3.1 | B37: Комплектующие части | C37: =C38+C39 -> 0
A38: 3.1.1 | B38: к оборудованию | C38: 0
A39: 3.1.2 | B39: к автомобилям | C39: 0
A40: 3.2 | B40: ГСМ | C40: =#REF! -> #REF!
A41: 3.3 | B41: Канцелярские товары | C41: =#REF! -> #REF!
A42: 3.4 | B42: Медикаменты | C42: =#REF! -> #REF!
A43: 3.5 | B43: Моющие товары | C43: =#REF! -> #REF!
A44: 3.6 | B44: Хозяйственные товары | C44: =#REF! -> #REF!
A45: 3.7 | B45: Затраты на типографскую и полиграфическую продукцию | C45: =C46+C47 -> #REF!
A46: 3.7.1 | B46: бланки строгой отчетности | C46: 0
A47: 3.7.3 | B47: прочая продукция | C47: =#REF! -> #REF!
A48: 3.8 | B48: Прочие ТМЦ | C48: =C49+C50 -> #REF!
...

Sheet свод 2 (МБ+ШК+ИНТЕР)
L1: Утверждаю Председатель Правления
L2: АОО "Назарбаев Интеллектуальные школы"
L3: _____________ К.Шамшидинова
L4: "_____"______________2012 г.
A6: Утвержденный бюджет филиала "Назарбаев Интеллектуальная школа города Астаны " на 2013 год.
L8: тенге
A9: № п/п | B9: Наименование статей | C9: НИШ г. Астана 2013 год, ВСЕГО | D9: в том числе:
D10: АОН | E10: ПР | F10: из них:
F11: Разработка, внедрение и авторизация программ Международного Бакалавриата | G11: НИШ г. Астана (школа) | H11: в том числе: | J11: НИШ г. Астана (интернат) | K11: в том числе:
H12: АОН | I12: ПР | K12: АОН | L12: ПР
I13: Обучение в 7-11 классах | L13: Обучение в 7-11 классах
A14: 1 | B14: 2 | D14: 4 | E14: 5 | F14: 6 | G14: 7 | H14: 8 | I14: 11 | J14: 7 | K14: 8 | L14: 11
A15: I | B15: Остаток средств на начало года | C15: =G15 -> #REF! | F15: 0 | G15: =#REF! -> #REF! | I15: =#REF! -> #REF! | J15: 0
A16: II | B16: Доходы, всего | C16: =C17+C19+C20 -> #REF! | D16: 0 | E16: =E17+E19+E20 -> #REF! | F16: =F19 -> #REF! | G16: =H16+I16 -> #REF! | H16: 0 | I16: =I17 -> #REF! | J16: =K16+L16 -> #REF! | K16: 0 | L16: =L17 -> #REF!
A17: 1 | B17: Плата за образовательные услуги | C17: =D17+E17 -> #REF! | D17: 0 | E17: =G17 -> #REF! | F17: 0 | G17: =H17+I17 -> #REF! | H17: 0 | I17: =#REF! -> #REF! | J17: =K17+L17 -> #REF! | K17: 0 | L17: =L20 -> #REF!
A18: 1.1 | B18: За счёт средств республиканского бюджета | C18: 363037950 | D18: 0 | E18: 363037950 | F18: 0 | G18: 363037950 | H18: 0 | I18: 363037950 | J18: 363037950 | K18: 0 | L18: 363037950
A19: 3 | B19: Проведение мероприятий, связанных с деятельностью образовательных комплексов | C19: =D19+E19 -> #REF! | D19: 0 | E19: =F19 -> #REF! | F19: =#REF! -> #REF! | G19: 0 | H19: 0 | I19: 0 | J19: 0 | K19: 0 | L19: 0
A20: 5 | B20: Прочий доход | C20: =D20+E20 -> #REF! | D20: 0 | E20: =L20 -> #REF! | F20: 0 | G20: 0 | H20: 0 | I20: 0 | J20: 0 | K20: 0 | L20: =#REF! -> #REF!
A21: III | B21: Расходы, всего | C21: =D21+E21 -> #REF! | D21: =D22+D23+D24+D25+D26+D27+D28+D29+D30+D31+D32+D33+D34+D35+D36+D37+D38+D39+D40+D41+D42+D44+D45+D46+D43 -> #REF! | E21: =E22+E23+E24+E25+E26+E27+E28+E29+E30+E31+E32+E33+E34+E35+E36+E37+E38+E39+E40+E41+E42+E44+E45+E46+E43 -> #REF! | F21: =F22+F23+F24+F25+F26+F27+F28+F29+F30+F31+F32+F33+F34+F35+F36+F37+F38+F39+F40+F41+F42+F43+F44+F45+F46 -> #REF! | G21: =H21+I21 -> #REF! | H21: =H22+H23+H24+H25+H26+H27+H28+H29+H30+H31+H34+H36+H37+H38+H40+H41+H42+H43+H44+H45+H46+H32+H33+H35+H39 -> #REF! | I21: =I22+I23+I24+I25+I26+I27+I28+I29+I30+I31+I34+I36+I37+I38+I40+I41+I42+I43+I44+I45+I46+I32+I33+I35+I39 -> #REF! | J21: =J22+J23+J24+J25+J26+J27+J28+J29+J30+J31+J34+J36+J37+J38+J40+J41+J42+J43+J44+J45+J46 -> #REF! | K21: =K22+K23+K24+K25+K26+K27+K28+K29+K30+K31+K34+K36+K37+K38+K40+K41+K42+K43+K44+K45+K46 -> #REF! | L21: =L22+L23+L24+L25+L26+L27+L28+L29+L30+L31+L34+L36+L37+L38+L40+L41+L42+L43+L44+L45+L46 -> #REF!
A22: 1 | B22: Оплата труда | C22: =D22+E22 -> #REF! | D22: =H22+K22 -> #REF! | E22: =F22+I22+L22 -> #REF! | F22: =#REF! -> #REF! | G22: =H22+I22 -> #REF! | H22: =#REF! -> #REF! | I22: =#REF! -> #REF! | J22: =K22+L22 -> #REF! | K22: =#REF! -> #REF! | L22: =#REF! -> #REF!
A23: 2 | B23: Отчисления от оплаты труда | C23: =D23+E23 -> #REF! | D23: =H23+K23 -> #REF! | E23: =F23+I23+L23 -> #REF! | F23: =#REF! -> #REF! | G23: =H23+I23 -> #REF! | H23: =#REF! -> #REF! | I23: =#REF! -> #REF! | J23: =K23+L23 -> #REF! | K23: =#REF! -> #REF! | L23: =#REF! -> #REF!
A24: 3 | B24: Запасы | C24: =D24+E24 -> #REF! | D24: =H24+K24 -> #REF! | E24: =F24+I24+L24 -> #REF! | F24: =#REF! -> #REF! | G24: =H24+I24 -> #REF! | H24: =#REF! -> #REF! | I24: =#REF! -> #REF! | J24: =K24+L24 -> #REF! | K24: =#REF! -> #REF! | L24: =#REF! -> #REF!
A25: 4 | B25: Коммунальные услуги | C25: =D25+E25 -> #REF! | D25: =H25+K25 -> #REF! | E25: =F25+I25+L25 -> #REF! | F25: 0 | G25: =H25+I25 -> #REF! | H25: =#REF! -> #REF! | I25: =#REF! -> #REF! | J25: =K25+L25 -> #REF! | K25: =#REF! -> #REF! | L25: =#REF! -> #REF!
A26: 5 | B26: Связь | C26: =D26+E26 -> #REF! | D26: =H26+K26 -> #REF! | E26: =F26+I26+L26 -> #REF! | F26: 0 | G26: =H26+I26 -> #REF! | H26: =#REF! -> #REF! | I26: =#REF! -> #REF! | J26: =K26+L26 -> #REF! | K26: =#REF! -> #REF! | L26: =#REF! -> #REF!
A27: 6 | B27: Командировочные расходы | C27: =D27+E27 -> #REF! | D27: =H27+K27 -> #REF! | E27: =F27+I27+L27 -> #REF! | F27: =#REF! -> #REF! | G27: =H27+I27 -> #REF! | H27: =#REF! -> #REF! | I27: =#REF! -> #REF! | J27: =K27+L27 -> #REF! | K27: 0 | L27: =#REF! -> #REF!
A28: 7 | B28: Оплата работ (услуг) произведенных подрядчиками (юридические и физические лица) | C28: =D28+E28 -> #REF! | D28: =H28+K28 -> #REF! | E28: =F28+I28+L28 -> #REF! | F28: =#REF! -> #REF! | G28: =H28+I28 -> #REF! | H28: =#REF! -> #REF! | I28: =#REF! -> #REF! | J28: =K28+L28 -> #REF! | K28: 0 | L28: =#REF! -> #REF!
A29: 8 | B29: Страхование | C29: =D29+E29 -> #REF! | D29: =H29+K29 -> #REF! | E29: =F29+I29+L29 -> #REF! | F29: =#REF! -> #REF! | G29: =H29+I29 -> #REF! | H29: =#REF! -> #REF! | I29: =#REF! -> #REF! | J29: =K29+L29 -> #REF! | K29: =#REF! -> #REF! | L29: =#REF! -> #REF!
A30: 9 | B30: Медицинское обслуживание | C30: =D30+E30 -> #REF! | D30: =H30+K30 -> #REF! | E30: =F30+I30+L30 -> #REF! | F30: 0 | G30: =H30+I30 -> #REF! | H30: =#REF! -> #REF! | I30: =#REF! -> #REF! | J30: =K30+L30 -> #REF! | K30: =#REF! -> #REF! | L30: =#REF! -> #REF!
A31: 10 | B31: Услуги почты | C31: =D31+E31 -> #REF! | D31: =H31+K31 -> 0 | E31: =F31+I31+L31 -> #REF! | F31: =#REF! -> #REF! | G31: =H31+I31 -> 0 | H31: 0 | I31: 0 | J31: =K31+L31 -> 0 | K31: 0 | L31: 0
A32: 11 | B32: Услуги по охране | C32: =D32+E32 -> #REF! | D32: =H32+K32 -> #REF! | E32: =F32+I32+L32 -> #REF! | G32: =H32+I32 -> #REF! | H32: =#REF! -> #REF! | I32: =#REF! -> #REF!
A33: 14 | B33: Информационные услуги | C33: =D33+E33 -> #REF! | D33: =H33+K33 -> #REF! | E33: =F33+I33+L33 -> 0 | G33: =H33+I33 -> #REF! | H33: =#REF! -> #REF!
A34: 16 | B34: Банковские услуги | C34: =D34+E34 -> #REF! | D34: =H34+K34 -> #REF! | E34: =F34+I34+L34 -> #REF! | F34: =#REF! -> #REF! | G34: =H34+I34 -> #REF! | H34: =#REF! -> #REF! | I34: =#REF! -> #REF! | J34: =K34+L34 -> #REF! | K34: =#REF! -> #REF! | L34: 0
A35: 20 | B35: Транспортные услуги | C35: =D35+E35 -> #REF! | D35: =H35+K35 -> #REF! | E35: =F35+I35+L35 -> #REF! | G35: =H35+I35 -> #REF! | H35: =#REF! -> #REF! | I35: =#REF! -> #REF! | J35: =K35+L35 -> 0
A36: 21 | B36: Периодические печатные издания | C36: =D36+E36 -> #REF! | D36: =H36+K36 -> 0 | E36: =F36+I36+L36 -> #REF! | F36: =#REF! -> #REF! | G36: =H36+I36 -> 0 | H36: 0 | I36: 0 | J36: =K36+L36 -> 0 | K36: 0 | L36: 0
A37: 22 | B37: Налоги и другие обязательные платежи в бюджет | C37: =D37+E37 -> #REF! | D37: =H37+K37 -> #REF! | E37: =F37+I37+L37 -> #REF! | F37: =#REF! -> #REF! | G37: =H37+I37 -> #REF! | H37: =#REF! -> #REF! | I37: =#REF! -> #REF! | J37: =K37+L37 -> #REF! | K37: 0 | L37: =#REF! -> #REF!
A38: 23 | B38: Операционная аренда | C38: =D38+E38 -> #REF! | D38: =H38+K38 -> #REF! | E38: =F38+I38+L38 -> #REF! | F38: =#REF! -> #REF! | G38: =H38+I38 -> #REF! | H38: =#REF! -> #REF! | I38: =#REF! -> #REF! | J38: =K38+L38 -> 0 | K38: 0 | L38: 0
A39: 24 | B39: Противопожарная охрана и затраты, связанные с соблюдением специальных требований | C39: =D39+E39 -> #REF! | D39: =H39+K39 -> #REF! | E39: =F39+I39+L39 -> #REF! | G39: =H39+I39 -> #REF! | H39: =#REF! -> #REF! | I39: =#REF! -> #REF!
A40: 25 | B40: Обучение и повышение квалификации персонала | C40: =D40+E40 -> 0 | D40: =H40+K40 -> 0 | E40: =F40+I40+L40 -> 0 | F40: 0 | G40: =H40+I40 -> 0 | H40: 0 | I40: 0 | J40: =K40+L40 -> 0 | K40: 0 | L40: 0
A41: 26 | B41: Дополнительные образовательные услуги в ИШПП | C41: =D41+E41 -> #REF! | D41: =H41+K41 -> 0 | E41: =F41+I41+L41 -> #REF! | F41: 0 | G41: =H41+I41 -> #REF! | H41: 0 | I41: =#REF! -> #REF! | J41: =K41+L41 -> 0 | K41: 0 | L41: 0
A42: 28 | B42: Расходы на участие и проведение семинаров, круглых столов, конференций и т.п. | C42: =D42+E42 -> #REF! | D42: =H42+K42 -> 0 | E42: =F42+I42+L42 -> #REF! | F42: =#REF! -> #REF! | G42: =H42+I42 -> 0 | H42: 0 | I42: 0 | J42: =K42+L42 -> 0 | K42: 0 | L42: 0
...

Sheet тариф на 22 кл школа 
AD1: Код строки | AE1: 2.01.
B2: Тарификация филиала "Назарбаев Интеллектуальная школа __________" на _________ учебный год | R2: размер МРП
E3: 1.08 | R3: размер МЗП
A4: с 01.01..- 31.08 | C4: 201…г | R4: кол-во премий | AF4: Вписать формулой | BD4: Вписать формулой
A5: № п/п | B5: Ф.И.О. | C5: Должность (уч/предметник) | D5: Уровень педагогического мастерства | E5: Базовая ставка за 1 час | I5: Учебная нагрузка 1-6 классы | N5: Учебная нагрузка 7-12 классы | S5: Базовый оклад в месяц 1-6 классы | X5: Базовый оклад в месяц 7-12 классы | AC5: Должностной оклад по 1-6 классам | AD5: Должностной оклад по 7-12 классам | AE5: Всего должностной оклад в месяц | AF5: Доплаты по 1-6 классам | AP5: Итого доплаты и надбавки в месяц, тенге | AQ5: Доплаты по 7-12 классам | AY5: Итого доплаты и надбавки в месяц, тенге | AZ5: Всего доплаты и надбавки в месяц, тенге | BA5: Заработная плата в месяц с доплатами и надбавками 1-6 класс | BB5: Заработная плата в месяц с доплатами и надбавками 7-12 класс | BC5: Итого Заработная плата в месяц | BD5: Лечебное пособие 1-6 классы | BE5: Лечебное пособие 7-12 классы | BF5: Итого Лечебное пособие | BG5: Премия 1-6 классы | BH5: Премия 7-12 классы | BI5: Итого Премия | BJ5: ФОТ, 1-6 классы в год | BK5: ФОТ 7-12 классы в год | BL5: ФОТ, всего, тенге | BM5: 1-6 классы | BQ5: 7-12 классы | BU5: Всего
AF6: Заведование учебными кабинетами | AG6: Руководство методическим объединением | AH6: За проверку тетрадей | AJ6: Доплата за проживание в зонах экологического бедствия | AL6: Доплата за проживание на территориях радиационного риска | AN6: за кураторскую работу в 1-4 классах | AQ6: Заведование учебными кабинетами | AR6: Руководство методическим объединением | AS6: За проверку тетрадей | AU6: Доплата за проживание в зонах экологического бедствия | AW6: Доплата за проживание на территориях радиационного риска | BM6: Выплаты в пенсионный фонд (10%) | BN6: ИПН (10%) | BO6: Социальный налог | BP6: Соц.страхование | BQ6: Выплаты в пенсионный фонд (10%) | BR6: ИПН (10%) | BS6: Социальный налог | BT6: Соц.страхование | BU6: Выплаты в пенсионный фонд (10%) | BV6: ИПН (10%) | BW6: Социальный налог | BX6: Соц.страхование
E8: АЧ | F8: ЭК | G8: РУ | H8: КР | I8: АЧ | J8: ЭК | K8: РУ | L8: КР | M8: Итого | N8: АЧ | O8: ЭК | P8: РУ | Q8: КР | R8: Итого | S8: АЧ | T8: ЭК | U8: РУ | V8: КР | W8: Итого | X8: АЧ | Y8: ЭК | Z8: РУ | AA8: КР | AB8: Итого | AF8: Сумма, тенге | AG8: Сумма, тенге | AH8: Размер 7% | AI8: Сумма, тенге | AJ8: Размер 30% | AK8: Сумма, тенге | AL8: Размер 1,5 МРП | AM8: Сумма, тенге | AN8: Размер 50% от ДО | AO8: Сумма, тенге | AP8: Сумма, тенге | AQ8: Сумма, тенге | AR8: Сумма, тенге | AS8: Размер % | AT8: Сумма, тенге | AU8: Размер 30% | AV8: Сумма, тенге | AW8: 1,5 МРП | AX8: Сумма, тенге | AY8: Сумма, тенге | AZ8: Сумма, тенге
A9: 1 | B9: =A9+1 -> 2 | C9: =B9+1 -> 3 | D9: =C9+1 -> 4 | E9: =D9+1 -> 5 | F9: =E9+1 -> 6 | G9: =F9+1 -> 7 | H9: =G9+1 -> 8 | I9: =H9+1 -> 9 | ... BX9: =BW9+1 -> 76
B10: … | M10: =I10+J10+K10+L10 -> 0 | R10: =N10+O10+P10+Q10 -> 0 | S10: =E10*I10*4 -> 0 | T10: =F10*J10*4 -> 0 | U10: =G10*K10*4 -> 0 | V10: =H10*L10*4 -> 0 | W10: =S10+T10+U10+V10 -> 0 | X10: =E10*N10*4 -> 0 | Y10: =F10*O10*4 -> 0 | Z10: =G10*P10*4 -> 0 | AA10: =H10*Q10*4 -> 0 | AB10: =X10+Y10+Z10+AA10 -> 0 | AC10: =W10 -> 0 | AD10: =AB10 -> 0 | AE10: =AC10+AD10 -> 0 | AI10: =AH10*AC10 -> 0 | AK10: =AJ10*AC10 -> 0 | AM10: =AL10*$T$2 -> 0 | AO10: =AN10*AC10 -> 0 | AP10: =AF10+AG10+AI10+AK10+AM10+AO10 -> 0 | AT10: =AS10*AD10 -> 0 | AV10: =AU10*AD10 -> 0 | AX10: =AW10*$T$2 -> 0 | AY10: =AQ10+AR10+AT10+AV10+AX10 -> 0 | AZ10: =AP10+AY10 -> 0 | BA10: =AC10+AP10 -> 0 | BB10: =AD10+AY10 -> 0 | BC10: =BA10+BB10 -> 0 | BF10: =BD10+BE10 -> 0 | BG10: =W10*$T$4 -> 0 | BH10: =AB10*$T$4 -> 0 | BI10: =BG10+BH10 -> 0 | BJ10: =BA10+BD10+BG10 -> 0 | BK10: =BB10+BE10+BH10 -> 0 | BL10: =BJ10+BK10 -> 0 | BM10: =BJ10*10% -> 0 | BN10: =(BJ10-BM10)*10% -> 0 | BO10: =(BJ10-BM10)*6% -> 0 | BP10: =(BJ10-BM10)*5% -> 0 | BQ10: =BK10*10% -> 0 | BR10: =(BK10-BQ10)*10% -> 0 | BS10: =(BK10-BQ10)*6% -> 0 | BT10: =(BK10-BQ10)*5% -> 0 | BU10: =BM10+BQ10 -> 0 | BV10: =BN10+BR10 -> 0 | BW10: =BO10+BS10 -> 0 | BX10: =BP10+BT10 -> 0
M11: =I11+J11+K11+L11 -> 0 | R11: =N11+O11+P11+Q11 -> 0 | S11: =E11*I11*4 -> 0 | T11: =F11*J11*4 -> 0 | U11: =G11*K11*4 -> 0 | V11: =H11*L11*4 -> 0 | W11: =S11+T11+U11+V11 -> 0 | X11: =E11*N11*4 -> 0 | Y11: =F11*O11*4 -> 0 | Z11: =G11*P11*4 -> 0 | AA11: =H11*Q11*4 -> 0 | AB11: =X11+Y11+Z11+AA11 -> 0 | AC11: =W11 -> 0 | AD11: =AB11 -> 0 | AE11: =AC11+AD11 -> 0 | AI11: =AH11*AC11 -> 0 | AK11: =AJ11*AC11 -> 0 | AM11: =AL11*$T$2 -> 0 | AO11: =AN11*AC11 -> 0 | AP11: =AF11+AG11+AI11+AK11+AM11+AO11 -> 0 | AT11: =AS11*AD11 -> 0 | AV11: =AU11*AD11 -> 0 | AX11: =AW11*$T$2 -> 0 | AY11: =AQ11+AR11+AT11+AV11+AX11 -> 0 | AZ11: =AP11+AY11 -> 0 | BA11: =AC11+AP11 -> 0 | BB11: =AD11+AY11 -> 0 | BC11: =BA11+BB11 -> 0 | BF11: =BD11+BE11 -> 0 | BG11: =W11*$T$4 -> 0 | BH11: =AB11*$T$4 -> 0 | BI11: =BG11+BH11 -> 0 | BJ11: =BA11+BD11+BG11 -> 0 | BK11: =BB11+BE11+BH11 -> 0 | BL11: =BJ11+BK11 -> 0 | BM11: =BJ11*10% -> 0 | BN11: =(BJ11-BM11)*10% -> 0 | BO11: =(BJ11-BM11)*6% -> 0 | BP11: =(BJ11-BM11)*5% -> 0 | BQ11: =BK11*10% -> 0 | BR11: =(BK11-BQ11)*10% -> 0 | BS11: =(BK11-BQ11)*6% -> 0 | BT11: =(BK11-BQ11)*5% -> 0 | BU11: =BM11+BQ11 -> 0 | BV11: =BN11+BR11 -> 0 | BW11: =BO11+BS11 -> 0 | BX11: =BP11+BT11 -> 0
M12: =I12+J12+K12+L12 -> 0 | R12: =N12+O12+P12+Q12 -> 0 | S12: =E12*I12*4 -> 0 | T12: =F12*J12*4 -> 0 | U12: =G12*K12*4 -> 0 | V12: =H12*L12*4 -> 0 | W12: =S12+T12+U12+V12 -> 0 | X12: =E12*N12*4 -> 0 | Y12: =F12*O12*4 -> 0 | Z12: =G12*P12*4 -> 0 | AA12: =H12*Q12*4 -> 0 | AB12: =X12+Y12+Z12+AA12 -> 0 | AC12: =W12 -> 0 | AD12: =AB12 -> 0 | AE12: =AC12+AD12 -> 0 | AI12: =AH12*AC12 -> 0 | AK12: =AJ12*AC12 -> 0 | AM12: =AL12*$T$2 -> 0 | AO12: =AN12*AC12 -> 0 | AP12: =AF12+AG12+AI12+AK12+AM12+AO12 -> 0 | AT12: =AS12*AD12 -> 0 | AV12: =AU12*AD12 -> 0 | AX12: =AW12*$T$2 -> 0 | AY12: =AQ12+AR12+AT12+AV12+AX12 -> 0 | AZ12: =AP12+AY12 -> 0 | BA12: =AC12+AP12 -> 0 | BB12: =AD12+AY12 -> 0 | BC12: =BA12+BB12 -> 0 | BF12: =BD12+BE12 -> 0 | BG12: =W12*$T$4 -> 0 | BH12: =AB12*$T$4 -> 0 | BI12: =BG12+BH12 -> 0 | BJ12: =BA12+BD12+BG12 -> 0 | BK12: =BB12+BE12+BH12 -> 0 | BL12: =BJ12+BK12 -> 0 | BM12: =BJ12*10% -> 0 | BN12: =(BJ12-BM12)*10% -> 0 | BO12: =(BJ12-BM12)*6% -> 0 | BP12: =(BJ12-BM12)*5% -> 0 | BQ12: =BK12*10% -> 0 | BR12: =(BK12-BQ12)*10% -> 0 | BS12: =(BK12-BQ12)*6% -> 0 | BT12: =(BK12-BQ12)*5% -> 0 | BU12: =BM12+BQ12 -> 0 | BV12: =BN12+BR12 -> 0 | BW12: =BO12+BS12 -> 0 | BX12: =BP12+BT12 -> 0
M13: =I13+J13+K13+L13 -> 0 | R13: =N13+O13+P13+Q13 -> 0 | S13: =E13*I13*4 -> 0 | T13: =F13*J13*4 -> 0 | U13: =G13*K13*4 -> 0 | V13: =H13*L13*4 -> 0 | W13: =S13+T13+U13+V13 -> 0 | X13: =E13*N13*4 -> 0 | Y13: =F13*O13*4 -> 0 | Z13: =G13*P13*4 -> 0 | AA13: =H13*Q13*4 -> 0 | AB13: =X13+Y13+Z13+AA13 -> 0 | AC13: =W13 -> 0 | AD13: =AB13 -> 0 | AE13: =AC13+AD13 -> 0 | AI13: =AH13*AC13 -> 0 | AK13: =AJ13*AC13 -> 0 | AM13: =AL13*$T$2 -> 0 | AO13: =AN13*AC13 -> 0 | AP13: =AF13+AG13+AI13+AK13+AM13+AO13 -> 0 | AT13: =AS13*AD13 -> 0 | AV13: =AU13*AD13 -> 0 | AX13: =AW13*$T$2 -> 0 | AY13: =AQ13+AR13+AT13+AV13+AX13 -> 0 | AZ13: =AP13+AY13 -> 0 | BA13: =AC13+AP13 -> 0 | BB13: =AD13+AY13 -> 0 | BC13: =BA13+BB13 -> 0 | BF13: =BD13+BE13 -> 0 | BG13: =W13*$T$4 -> 0 | BH13: =AB13*$T$4 -> 0 | BI13: =BG13+BH13 -> 0 | BJ13: =BA13+BD13+BG13 -> 0 | BK13: =BB13+BE13+BH13 -> 0 | BL13: =BJ13+BK13 -> 0 | BM13: =BJ13*10% -> 0 | BN13: =(BJ13-BM13)*10% -> 0 | BO13: =(BJ13-BM13)*6% -> 0 | BP13: =(BJ13-BM13)*5% -> 0 | BQ13: =BK13*10% -> 0 | BR13: =(BK13-BQ13)*10% -> 0 | BS13: =(BK13-BQ13)*6% -> 0 | BT13: =(BK13-BQ13)*5% -> 0 | BU13: =BM13+BQ13 -> 0 | BV13: =BN13+BR13 -> 0 | BW13: =BO13+BS13 -> 0 | BX13: =BP13+BT13 -> 0
M14: =I14+J14+K14+L14 -> 0 | R14: =N14+O14+P14+Q14 -> 0 | S14: =E14*I14*4 -> 0 | T14: =F14*J14*4 -> 0 | U14: =G14*K14*4 -> 0 | V14: =H14*L14*4 -> 0 | W14: =S14+T14+U14+V14 -> 0 | X14: =E14*N14*4 -> 0 | Y14: =F14*O14*4 -> 0 | Z14: =G14*P14*4 -> 0 | AA14: =H14*Q14*4 -> 0 | AB14: =X14+Y14+Z14+AA14 -> 0 | AC14: =W14 -> 0 | AD14: =AB14 -> 0 | AE14: =AC14+AD14 -> 0 | AI14: =AH14*AC14 -> 0 | AK14: =AJ14*AC14 -> 0 | AM14: =AL14*$T$2 -> 0 | AO14: =AN14*AC14 -> 0 | AP14: =AF14+AG14+AI14+AK14+AM14+AO14 -> 0 | AT14: =AS14*AD14 -> 0 | AV14: =AU14*AD14 -> 0 | AX14: =AW14*$T$2 -> 0 | AY14: =AQ14+AR14+AT14+AV14+AX14 -> 0 | AZ14: =AP14+AY14 -> 0 | BA14: =AC14+AP14 -> 0 | BB14: =AD14+AY14 -> 0 | BC14: =BA14+BB14 -> 0 | BF14: =BD14+BE14 -> 0 | BG14: =W14*$T$4 -> 0 | BH14: =AB14*$T$4 -> 0 | BI14: =BG14+BH14 -> 0 | BJ14: =BA14+BD14+BG14 -> 0 | BK14: =BB14+BE14+BH14 -> 0 | BL14: =BJ14+BK14 -> 0 | BM14: =BJ14*10% -> 0 | BN14: =(BJ14-BM14)*10% -> 0 | BO14: =(BJ14-BM14)*6% -> 0 | BP14: =(BJ14-BM14)*5% -> 0 | BQ14: =BK14*10% -> 0 | BR14: =(BK14-BQ14)*10% -> 0 | BS14: =(BK14-BQ14)*6% -> 0 | BT14: =(BK14-BQ14)*5% -> 0 | BU14: =BM14+BQ14 -> 0 | BV14: =BN14+BR14 -> 0 | BW14: =BO14+BS14 -> 0 | BX14: =BP14+BT14 -> 0
M15: =I15+J15+K15+L15 -> 0 | R15: =N15+O15+P15+Q15 -> 0 | S15: =E15*I15*4 -> 0 | T15: =F15*J15*4 -> 0 | U15: =G15*K15*4 -> 0 | V15: =H15*L15*4 -> 0 | W15: =S15+T15+U15+V15 -> 0 | X15: =E15*N15*4 -> 0 | Y15: =F15*O15*4 -> 0 | Z15: =G15*P15*4 -> 0 | AA15: =H15*Q15*4 -> 0 | AB15: =X15+Y15+Z15+AA15 -> 0 | AC15: =W15 -> 0 | AD15: =AB15 -> 0 | AE15: =AC15+AD15 -> 0 | AI15: =AH15*AC15 -> 0 | AK15: =AJ15*AC15 -> 0 | AM15: =AL15*$T$2 -> 0 | AO15: =AN15*AC15 -> 0 | AP15: =AF15+AG15+AI15+AK15+AM15+AO15 -> 0 | AT15: =AS15*AD15 -> 0 | AV15: =AU15*AD15 -> 0 | AX15: =AW15*$T$2 -> 0 | AY15: =AQ15+AR15+AT15+AV15+AX15 -> 0 | AZ15: =AP15+AY15 -> 0 | BA15: =AC15+AP15 -> 0 | BB15: =AD15+AY15 -> 0 | BC15: =BA15+BB15 -> 0 | BF15: =BD15+BE15 -> 0 | BG15: =W15*$T$4 -> 0 | BH15: =AB15*$T$4 -> 0 | BI15: =BG15+BH15 -> 0 | BJ15: =BA15+BD15+BG15 -> 0 | BK15: =BB15+BE15+BH15 -> 0 | BL15: =BJ15+BK15 -> 0 | BM15: =BJ15*10% -> 0 | BN15: =(BJ15-BM15)*10% -> 0 | BO15: =(BJ15-BM15)*6% -> 0 | BP15: =(BJ15-BM15)*5% -> 0 | BQ15: =BK15*10% -> 0 | BR15: =(BK15-BQ15)*10% -> 0 | BS15: =(BK15-BQ15)*6% -> 0 | BT15: =(BK15-BQ15)*5% -> 0 | BU15: =BM15+BQ15 -> 0 | BV15: =BN15+BR15 -> 0 | BW15: =BO15+BS15 -> 0 | BX15: =BP15+BT15 -> 0
M16: =I16+J16+K16+L16 -> 0 | R16: =N16+O16+P16+Q16 -> 0 | S16: =E16*I16*4 -> 0 | T16: =F16*J16*4 -> 0 | U16: =G16*K16*4 -> 0 | V16: =H16*L16*4 -> 0 | W16: =S16+T16+U16+V16 -> 0 | X16: =E16*N16*4 -> 0 | Y16: =F16*O16*4 -> 0 | Z16: =G16*P16*4 -> 0 | AA16: =H16*Q16*4 -> 0 | AB16: =X16+Y16+Z16+AA16 -> 0 | AC16: =W16 -> 0 | AD16: =AB16 -> 0 | AE16: =AC16+AD16 -> 0 | AI16: =AH16*AC16 -> 0 | AK16: =AJ16*AC16 -> 0 | AM16: =AL16*$T$2 -> 0 | AO16: =AN16*AC16 -> 0 | AP16: =AF16+AG16+AI16+AK16+AM16+AO16 -> 0 | AT16: =AS16*AD16 -> 0 | AV16: =AU16*AD16 -> 0 | AX16: =AW16*$T$2 -> 0 | AY16: =AQ16+AR16+AT16+AV16+AX16 -> 0 | AZ16: =AP16+AY16 -> 0 | BA16: =AC16+AP16 -> 0 | BB16: =AD16+AY16 -> 0 | BC16: =BA16+BB16 -> 0 | BF16: =BD16+BE16 -> 0 | BG16: =W16*$T$4 -> 0 | BH16: =AB16*$T$4 -> 0 | BI16: =BG16+BH16 -> 0 | BJ16: =BA16+BD16+BG16 -> 0 | BK16: =BB16+BE16+BH16 -> 0 | BL16: =BJ16+BK16 -> 0 | BM16: =BJ16*10% -> 0 | BN16: =(BJ16-BM16)*10% -> 0 | BO16: =(BJ16-BM16)*6% -> 0 | BP16: =(BJ16-BM16)*5% -> 0 | BQ16: =BK16*10% -> 0 | BR16: =(BK16-BQ16)*10% -> 0 | BS16: =(BK16-BQ16)*6% -> 0 | BT16: =(BK16-BQ16)*5% -> 0 | BU16: =BM16+BQ16 -> 0 | BV16: =BN16+BR16 -> 0 | BW16: =BO16+BS16 -> 0 | BX16: =BP16+BT16 -> 0
M17: =I17+J17+K17+L17 -> 0 | R17: =N17+O17+P17+Q17 -> 0 | S17: =E17*I17*4 -> 0 | T17: =F17*J17*4 -> 0 | U17: =G17*K17*4 -> 0 | V17: =H17*L17*4 -> 0 | W17: =S17+T17+U17+V17 -> 0 | X17: =E17*N17*4 -> 0 | Y17: =F17*O17*4 -> 0 | Z17: =G17*P17*4 -> 0 | AA17: =H17*Q17*4 -> 0 | AB17: =X17+Y17+Z17+AA17 -> 0 | AC17: =W17 -> 0 | AD17: =AB17 -> 0 | AE17: =AC17+AD17 -> 0 | AI17: =AH17*AC17 -> 0 | AK17: =AJ17*AC17 -> 0 | AM17: =AL17*$T$2 -> 0 | AO17: =AN17*AC17 -> 0 | AP17: =AF17+AG17+AI17+AK17+AM17+AO17 -> 0 | AT17: =AS17*AD17 -> 0 | AV17: =AU17*AD17 -> 0 | AX17: =AW17*$T$2 -> 0 | AY17: =AQ17+AR17+AT17+AV17+AX17 -> 0 | AZ17: =AP17+AY17 -> 0 | BA17: =AC17+AP17 -> 0 | BB17: =AD17+AY17 -> 0 | BC17: =BA17+BB17 -> 0 | BF17: =BD17+BE17 -> 0 | BG17: =W17*$T$4 -> 0 | BH17: =AB17*$T$4 -> 0 | BI17: =BG17+BH17 -> 0 | BJ17: =BA17+BD17+BG17 -> 0 | BK17: =BB17+BE17+BH17 -> 0 | BL17: =BJ17+BK17 -> 0 | BM17: =BJ17*10% -> 0 | BN17: =(BJ17-BM17)*10% -> 0 | BO17: =(BJ17-BM17)*6% -> 0 | BP17: =(BJ17-BM17)*5% -> 0 | BQ17: =BK17*10% -> 0 | BR17: =(BK17-BQ17)*10% -> 0 | BS17: =(BK17-BQ17)*6% -> 0 | BT17: =(BK17-BQ17)*5% -> 0 | BU17: =BM17+BQ17 -> 0 | BV17: =BN17+BR17 -> 0 | BW17: =BO17+BS17 -> 0 | BX17: =BP17+BT17 -> 0
M18: =I18+J18+K18+L18 -> 0 | R18: =N18+O18+P18+Q18 -> 0 | S18: =E18*I18*4 -> 0 | T18: =F18*J18*4 -> 0 | U18: =G18*K18*4 -> 0 | V18: =H18*L18*4 -> 0 | W18: =S18+T18+U18+V18 -> 0 | X18: =E18*N18*4 -> 0 | Y18: =F18*O18*4 -> 0 | Z18: =G18*P18*4 -> 0 | AA18: =H18*Q18*4 -> 0 | AB18: =X18+Y18+Z18+AA18 -> 0 | AC18: =W18 -> 0 | AD18: =AB18 -> 0 | AE18: =AC18+AD18 -> 0 | AI18: =AH18*AC18 -> 0 | AK18: =AJ18*AC18 -> 0 | AM18: =AL18*$T$2 -> 0 | AO18: =AN18*AC18 -> 0 | AP18: =AF18+AG18+AI18+AK18+AM18+AO18 -> 0 | AT18: =AS18*AD18 -> 0 | AV18: =AU18*AD18 -> 0 | AX18: =AW18*$T$2 -> 0 | AY18: =AQ18+AR18+AT18+AV18+AX18 -> 0 | AZ18: =AP18+AY18 -> 0 | BA18: =AC18+AP18 -> 0 | BB18: =AD18+AY18 -> 0 | BC18: =BA18+BB18 -> 0 | BF18: =BD18+BE18 -> 0 | BG18: =W18*$T$4 -> 0 | BH18: =AB18*$T$4 -> 0 | BI18: =BG18+BH18 -> 0 | BJ18: =BA18+BD18+BG18 -> 0 | BK18: =BB18+BE18+BH18 -> 0 | BL18: =BJ18+BK18 -> 0 | BM18: =BJ18*10% -> 0 | BN18: =(BJ18-BM18)*10% -> 0 | BO18: =(BJ18-BM18)*6% -> 0 | BP18: =(BJ18-BM18)*5% -> 0 | BQ18: =BK18*10% -> 0 | BR18: =(BK18-BQ18)*10% -> 0 | BS18: =(BK18-BQ18)*6% -> 0 | BT18: =(BK18-BQ18)*5% -> 0 | BU18: =BM18+BQ18 -> 0 | BV18: =BN18+BR18 -> 0 | BW18: =BO18+BS18 -> 0 | BX18: =BP18+BT18 -> 0
M19: =I19+J19+K19+L19 -> 0 | R19: =N19+O19+P19+Q19 -> 0 | S19: =E19*I19*4 -> 0 | T19: =F19*J19*4 -> 0 | U19: =G19*K19*4 -> 0 | V19: =H19*L19*4 -> 0 | W19: =S19+T19+U19+V19 -> 0 | X19: =E19*N19*4 -> 0 | Y19: =F19*O19*4 -> 0 | Z19: =G19*P19*4 -> 0 | AA19: =H19*Q19*4 -> 0 | AB19: =X19+Y19+Z19+AA19 -> 0 | AC19: =W19 -> 0 | AD19: =AB19 -> 0 | AE19: =AC19+AD19 -> 0 | AI19: =AH19*AC19 -> 0 | AK19: =AJ19*AC19 -> 0 | AM19: =AL19*$T$2 -> 0 | AO19: =AN19*AC19 -> 0 | AP19: =AF19+AG19+AI19+AK19+AM19+AO19 -> 0 | AT19: =AS19*AD19 -> 0 | AV19: =AU19*AD19 -> 0 | AX19: =AW19*$T$2 -> 0 | AY19: =AQ19+AR19+AT19+AV19+AX19 -> 0 | AZ19: =AP19+AY19 -> 0 | BA19: =AC19+AP19 -> 0 | BB19: =AD19+AY19 -> 0 | BC19: =BA19+BB19 -> 0 | BF19: =BD19+BE19 -> 0 | BG19: =W19*$T$4 -> 0 | BH19: =AB19*$T$4 -> 0 | BI19: =BG19+BH19 -> 0 | BJ19: =BA19+BD19+BG19 -> 0 | BK19: =BB19+BE19+BH19 -> 0 | BL19: =BJ19+BK19 -> 0 | BM19: =BJ19*10% -> 0 | BN19: =(BJ19-BM19)*10% -> 0 | BO19: =(BJ19-BM19)*6% -> 0 | BP19: =(BJ19-BM19)*5% -> 0 | BQ19: =BK19*10% -> 0 | BR19: =(BK19-BQ19)*10% -> 0 | BS19: =(BK19-BQ19)*6% -> 0 | BT19: =(BK19-BQ19)*5% -> 0 | BU19: =BM19+BQ19 -> 0 | BV19: =BN19+BR19 -> 0 | BW19: =BO19+BS19 -> 0 | BX19: =BP19+BT19 -> 0
M20: =I20+J20+K20+L20 -> 0 | R20: =N20+O20+P20+Q20 -> 0 | S20: =E20*I20*4 -> 0 | T20: =F20*J20*4 -> 0 | U20: =G20*K20*4 -> 0 | V20: =H20*L20*4 -> 0 | W20: =S20+T20+U20+V20 -> 0 | X20: =E20*N20*4 -> 0 | Y20: =F20*O20*4 -> 0 | Z20: =G20*P20*4 -> 0 | AA20: =H20*Q20*4 -> 0 | AB20: =X20+Y20+Z20+AA20 -> 0 | AC20: =W20 -> 0 | AD20: =AB20 -> 0 | AE20: =AC20+AD20 -> 0 | AI20: =AH20*AC20 -> 0 | AK20: =AJ20*AC20 -> 0 | AM20: =AL20*$T$2 -> 0 | AO20: =AN20*AC20 -> 0 | AP20: =AF20+AG20+AI20+AK20+AM20+AO20 -> 0 | AT20: =AS20*AD20 -> 0 | AV20: =AU20*AD20 -> 0 | AX20: =AW20*$T$2 -> 0 | AY20: =AQ20+AR20+AT20+AV20+AX20 -> 0 | AZ20: =AP20+AY20 -> 0 | BA20: =AC20+AP20 -> 0 | BB20: =AD20+AY20 -> 0 | BC20: =BA20+BB20 -> 0 | BF20: =BD20+BE20 -> 0 | BG20: =W20*$T$4 -> 0 | BH20: =AB20*$T$4 -> 0 | BI20: =BG20+BH20 -> 0 | BJ20: =BA20+BD20+BG20 -> 0 | BK20: =BB20+BE20+BH20 -> 0 | BL20: =BJ20+BK20 -> 0 | BM20: =BJ20*10% -> 0 | BN20: =(BJ20-BM20)*10% -> 0 | BO20: =(BJ20-BM20)*6% -> 0 | BP20: =(BJ20-BM20)*5% -> 0 | BQ20: =BK20*10% -> 0 | BR20: =(BK20-BQ20)*10% -> 0 | BS20: =(BK20-BQ20)*6% -> 0 | BT20: =(BK20-BQ20)*5% -> 0 | BU20: =BM20+BQ20 -> 0 | BV20: =BN20+BR20 -> 0 | BW20: =BO20+BS20 -> 0 | BX20: =BP20+BT20 -> 0
M21: =I21+J21+K21+L21 -> 0 | R21: =N21+O21+P21+Q21 -> 0 | S21: =E21*I21*4 -> 0 | T21: =F21*J21*4 -> 0 | U21: =G21*K21*4 -> 0 | V21: =H21*L21*4 -> 0 | W21: =S21+T21+U21+V21 -> 0 | X21: =E21*N21*4 -> 0 | Y21: =F21*O21*4 -> 0 | Z21: =G21*P21*4 -> 0 | AA21: =H21*Q21*4 -> 0 | AB21: =X21+Y21+Z21+AA21 -> 0 | AC21: =W21 -> 0 | AD21: =AB21 -> 0 | AE21: =AC21+AD21 -> 0 | AI21: =AH21*AC21 -> 0 | AK21: =AJ21*AC21 -> 0 | AM21: =AL21*$T$2 -> 0 | AO21: =AN21*AC21 -> 0 | AP21: =AF21+AG21+AI21+AK21+AM21+AO21 -> 0 | AT21: =AS21*AD21 -> 0 | AV21: =AU21*AD21 -> 0 | AX21: =AW21*$T$2 -> 0 | AY21: =AQ21+AR21+AT21+AV21+AX21 -> 0 | AZ21: =AP21+AY21 -> 0 | BA21: =AC21+AP21 -> 0 | BB21: =AD21+AY21 -> 0 | BC21: =BA21+BB21 -> 0 | BF21: =BD21+BE21 -> 0 | BG21: =W21*$T$4 -> 0 | BH21: =AB21*$T$4 -> 0 | BI21: =BG21+BH21 -> 0 | BJ21: =BA21+BD21+BG21 -> 0 | BK21: =BB21+BE21+BH21 -> 0 | BL21: =BJ21+BK21 -> 0 | BM21: =BJ21*10% -> 0 | BN21: =(BJ21-BM21)*10% -> 0 | BO21: =(BJ21-BM21)*6% -> 0 | BP21: =(BJ21-BM21)*5% -> 0 | BQ21: =BK21*10% -> 0 | BR21: =(BK21-BQ21)*10% -> 0 | BS21: =(BK21-BQ21)*6% -> 0 | BT21: =(BK21-BQ21)*5% -> 0 | BU21: =BM21+BQ21 -> 0 | BV21: =BN21+BR21 -> 0 | BW21: =BO21+BS21 -> 0 | BX21: =BP21+BT21 -> 0
M22: =I22+J22+K22+L22 -> 0 | R22: =N22+O22+P22+Q22 -> 0 | S22: =E22*I22*4 -> 0 | T22: =F22*J22*4 -> 0 | U22: =G22*K22*4 -> 0 | V22: =H22*L22*4 -> 0 | W22: =S22+T22+U22+V22 -> 0 | X22: =E22*N22*4 -> 0 | Y22: =F22*O22*4 -> 0 | Z22: =G22*P22*4 -> 0 | AA22: =H22*Q22*4 -> 0 | AB22: =X22+Y22+Z22+AA22 -> 0 | AC22: =W22 -> 0 | AD22: =AB22 -> 0 | AE22: =AC22+AD22 -> 0 | AI22: =AH22*AC22 -> 0 | AK22: =AJ22*AC22 -> 0 | AM22: =AL22*$T$2 -> 0 | AO22: =AN22*AC22 -> 0 | AP22: =AF22+AG22+AI22+AK22+AM22+AO22 -> 0 | AT22: =AS22*AD22 -> 0 | AV22: =AU22*AD22 -> 0 | AX22: =AW22*$T$2 -> 0 | AY22: =AQ22+AR22+AT22+AV22+AX22 -> 0 | AZ22: =AP22+AY22 -> 0 | BA22: =AC22+AP22 -> 0 | BB22: =AD22+AY22 -> 0 | BC22: =BA22+BB22 -> 0 | BF22: =BD22+BE22 -> 0 | BG22: =W22*$T$4 -> 0 | BH22: =AB22*$T$4 -> 0 | BI22: =BG22+BH22 -> 0 | BJ22: =BA22+BD22+BG22 -> 0 | BK22: =BB22+BE22+BH22 -> 0 | BL22: =BJ22+BK22 -> 0 | BM22: =BJ22*10% -> 0 | BN22: =(BJ22-BM22)*10% -> 0 | BO22: =(BJ22-BM22)*6% -> 0 | BP22: =(BJ22-BM22)*5% -> 0 | BQ22: =BK22*10% -> 0 | BR22: =(BK22-BQ22)*10% -> 0 | BS22: =(BK22-BQ22)*6% -> 0 | BT22: =(BK22-BQ22)*5% -> 0 | BU22: =BM22+BQ22 -> 0 | BV22: =BN22+BR22 -> 0 | BW22: =BO22+BS22 -> 0 | BX22: =BP22+BT22 -> 0
... M41: =I41+J41+K41+L41 -> 0 | R41: =N41+O41+P41+Q41 -> 0 | S41: =E41*I41*4 -> 0 | T41: =F41*J41*4 -> 0 | U41: =G41*K41*4 -> 0 | V41: =H41*L41*4 -> 0 | W41: =S41+T41+U41+V41 -> 0 | X41: =E41*N41*4 -> 0 | Y41: =F41*O41*4 -> 0 | Z41: =G41*P41*4 -> 0 | AA41: =H41*Q41*4 -> 0 | AB41: =X41+Y41+Z41+AA41 -> 0 | AC41: =W41 -> 0 | AD41: =AB41 -> 0 | AE41: =AC41+AD41 -> 0 | AI41: =AH41*AC41 -> 0 | AK41: =AJ41*AC41 -> 0 | AM41: =AL41*$T$2 -> 0 | AO41: =AN41*AC41 -> 0 | AP41: =AF41+AG41+AI41+AK41+AM41+AO41 -> 0 | AT41: =AS41*AD41 -> 0 | AV41: =AU41*AD41 -> 0 | AX41: =AW41*$T$2 -> 0 | AY41: =AQ41+AR41+AT41+AV41+AX41 -> 0 | AZ41: =AP41+AY41 -> 0 | BA41: =AC41+AP41 -> 0 | BB41: =AD41+AY41 -> 0 | BC41: =BA41+BB41 -> 0 | BF41: =BD41+BE41 -> 0 | BG41: =W41*$T$4 -> 0 | BH41: =AB41*$T$4 -> 0 | BI41: =BG41+BH41 -> 0 | BJ41: =BA41+BD41+BG41 -> 0 | BK41: =BB41+BE41+BH41 -> 0 | BL41: =BJ41+BK41 -> 0 | BM41: =BJ41*10% -> 0 | BN41: =(BJ41-BM41)*10% -> 0 | BO41: =(BJ41-BM41)*6% -> 0 | BP41: =(BJ41-BM41)*5% -> 0 | BQ41: =BK41*10% -> 0 | BR41: =(BK41-BQ41)*10% -> 0 | BS41: =(BK41-BQ41)*6% -> 0 | BT41: =(BK41-BQ41)*5% -> 0 | BU41: =BM41+BQ41 -> 0 | BV41: =BN41+BR41 -> 0 | BW41: =BO41+BS41 -> 0 | BX41: =BP41+BT41 -> 0
B42: Итого | I42: =SUM(I10:I14) -> 0 | J42: =SUM(J10:J14) -> 0 | K42: =SUM(K10:K14) -> 0 | L42: =SUM(L10:L14) -> 0 | M42: =SUM(M10:M14) -> 0 | N42: =SUM(N10:N14) -> 0 | O42: =SUM(O10:O14) -> 0 | P42: =SUM(P10:P14) -> 0 | ... AG42: =SUM(AG10:AG14) -> 0 | AI42: =SUM(AI10:AI14) -> 0 | AK42: =SUM(AK10:AK14) -> 0 | AM42: =SUM(AM10:AM14) -> 0 | AO42: =SUM(AO10:AO14) -> 0 | AP42: =SUM(AP10:AP14) -> 0 | AQ42: =SUM(AQ10:AQ14) -> 0 | AR42: =SUM(AR10:AR14) -> 0 | AT42: =SUM(AT10:AT14) -> 0 | AV42: =SUM(AV10:AV14) -> 0 | AX42: =SUM(AX10:AX14) -> 0 | AY42: =SUM(AY10:AY14) -> 0 | AZ42: =SUM(AZ10:AZ14) -> 0 | BA42: =SUM(BA10:BA14) -> 0 | BB42: =SUM(BB10:BB14) -> 0 | BC42: =SUM(BC10:BC14) -> 0 | BD42: =SUM(BD10:BD14) -> 0 | BE42: =SUM(BE10:BE14) -> 0 | ... BX42: =SUM(BX10:BX14) -> 0
B43: Замена часов (10% от итога) | S43: =S42*10% -> 0 | T43: =T42*10% -> 0 | U43: =U42*10% -> 0 | V43: =V42*10% -> 0 | W43: =W42*10% -> 0 | X43: =X42*10% -> 0 | Y43: =Y42*10% -> 0 | Z43: =Z42*10% -> 0 | ... AE43: =AE42*10% -> 0 | BA43: =AC43+AP43 -> 0 | BB43: =AD43+AY43 -> 0 | BC43: =BA43+BB43 -> 0 | BD43: =BD42*10% -> 0 | BE43: =BE42*10% -> 0 | BF43: =BF42*10% -> 0 | BG43: =BG42*10% -> 0 | BH43: =BH42*10% -> 0 | BI43: =BI42*10% -> 0 | BJ43: =BA43+BD43+BG43 -> 0 | BK43: =BB43+BE43+BH43 -> 0 | BL43: =BJ43+BK43 -> 0 | BM43: =BJ43*10% -> 0 | BN43: =(BJ43-BM43)*10% -> 0 | BO43: =(BJ43-BM43)*6% -> 0 | BP43: =(BJ43-BM43)*5% -> 0 | BQ43: =BK43*10% -> 0 | BR43: =(BK43-BQ43)*10% -> 0 | BS43: =(BK43-BQ43)*6% -> 0 | BT43: =(BK43-BQ43)*5% -> 0 | BU43: =BM43+BQ43 -> 0 | BV43: =BN43+BR43 -> 0 | BW43: =BO43+BS43 -> 0 | BX43: =BP43+BT43 -> 0
B44: Всего | S44: =S42+S43 -> 0 | T44: =T42+T43 -> 0 | U44: =U42+U43 -> 0 | V44: =V42+V43 -> 0 | W44: =W42+W43 -> 0 | X44: =X42+X43 -> 0 | Y44: =Y42+Y43 -> 0 | Z44: =Z42+Z43 -> 0 | ... BX44: =BX42+BX43 -> 0
B46: Руководитель
B48: Заместитель руководителя
B49: по учебной части (школы)
B51: Заместитель руководителя
B52: по финансово-административной работе
B54: Экономист
B58: Тарификация филиала "Назарбаев Интеллектуальная школа __________" на _________ учебный год
E59: 1.08
A60: с 01.09..- 31.12 | C60: 201…г | AF60: Вписать формулой | BD60: Вписать формулой
A61: № п/п | B61: Ф.И.О. | C61: Должность (уч/предметник) | D61: Уровень педагогического мастерства | E61: Базовая ставка за 1 час | I61: Учебная нагрузка 1-6 классы | N61: Учебная нагрузка 7-12 классы | S61: Базовый оклад в месяц 1-6 классы | X61: Базовый оклад в месяц 7-12 классы | AC61: Должностной оклад по 1-6 классам | AD61: Должностной оклад по 7-12 классам | AE61: Всего должностной оклад в месяц | AF61: Доплаты по 1-6 классам | AP61: Итого доплаты и надбавки в месяц, тенге | AQ61: Доплаты по 7-12 классам | AY61: Итого доплаты и надбавки в месяц, тенге | AZ61: Всего доплаты и надбавки в месяц, тенге | BA61: Заработная плата в месяц с доплатами и надбавками 1-6 класс | BB61: Заработная плата в месяц с доплатами и надбавками 7-12 класс | BC61: Итого Заработная плата в месяц | BD61: Лечебное пособие 1-6 классы | BE61: Лечебное пособие 7-12 классы | BF61: Итого Лечебное пособие | BG61: Премия 1-6 классы | BH61: Премия 7-12 классы | BI61: Итого Премия | BJ61: ФОТ, всего 1-6 классы | BK61: ФОТ 7-12 классы | BL61: ФОТ, всего, тенге | BM61: 1-6 классы | BQ61: 7-12 классы | BU61: Всего
AF62: Заведование учебными кабинетами | AG62: Руководство методическим объединением | AH62: За проверку тетрадей | AJ62: Доплата за проживание в зонах экологического бедствия | AL62: Доплата за проживание на территориях радиационного риска | AN62: за кураторскую работу в 1-4 классах | AQ62: Заведование учебными кабинетами | AR62: Руководство методическим объединением | AS62: За проверку тетрадей | AU62: Доплата за проживание в зонах экологического бедствия | AW62: Доплата за проживание на территориях радиационного риска | BM62: Выплаты в пенсионный фонд (10%) | BN62: ИПН (10%) | BO62: Социальный налог | BP62: Соц.страхование | BQ62: Выплаты в пенсионный фонд (10%) | BR62: ИПН (10%) | BS62: Социальный налог | BT62: Соц.страхование | BU62: Выплаты в пенсионный фонд (10%) | BV62: ИПН (10%) | BW62: Социальный налог | BX62: Соц.страхование
E64: АЧ | F64: ЭК | G64: РУ | H64: КР | I64: АЧ | J64: ЭК | K64: РУ | L64: КР | M64: Итого | N64: АЧ | O64: ЭК | P64: РУ | Q64: КР | R64: Итого | S64: АЧ | T64: ЭК | U64: РУ | V64: КР | W64: Итого | X64: АЧ | Y64: ЭК | Z64: РУ | AA64: КР | AB64: Итого | AF64: Сумма, тенге | AG64: Сумма, тенге | AH64: Размер 7% | AI64: Сумма, тенге | AJ64: Размер 30% | AK64: Сумма, тенге | AL64: 1,5 МРП | AM64: Сумма, тенге | AN64: Размер 50% от ДО | AO64: Сумма, тенге | AP64: Сумма, тенге | AQ64: Сумма, тенге | AR64: Сумма, тенге | AS64: Размер % | AT64: Сумма, тенге | AU64: Размер 30% | AV64: Сумма, тенге | AW64: 1,5 МРП | AX64: Сумма, тенге | AY64: Сумма, тенге | AZ64: Сумма, тенге
A65: 1 | B65: =A65+1 -> 2 | C65: =B65+1 -> 3 | D65: =C65+1 -> 4 | E65: =D65+1 -> 5 | F65: =E65+1 -> 6 | G65: =F65+1 -> 7 | H65: =G65+1 -> 8 | I65: =H65+1 -> 9 | ... BX65: =BW65+1 -> 76
B66: … | M66: =I66+J66+K66+L66 -> 0 | R66: =N66+O66+P66+Q66 -> 0 | S66: =E66*I66 -> 0 | T66: =F66*J66 -> 0 | U66: =G66*K66 -> 0 | V66: =H66*L66 -> 0 | W66: =S66+T66+U66+V66 -> 0 | X66: =E66*N66 -> 0 | Y66: =F66*O66 -> 0 | Z66: =G66*P66 -> 0 | AA66: =H66*Q66 -> 0 | AB66: =X66+Y66+Z66+AA66 -> 0 | AC66: =W66 -> 0 | AD66: =AB66 -> 0 | AE66: =AC66+AD66 -> 0 | AI66: =AH66*AC66 -> 0 | AK66: =AJ66*AC66 -> 0 | AM66: =AL66*$T$2 -> 0 | AO66: =AN66*AC66 -> 0 | AP66: =AF66+AG66+AI66+AK66+AM66+AO66 -> 0 | AT66: =AS66*AD66 -> 0 | AV66: =AU66*AD66 -> 0 | AX66: =AW66*$T$2 -> 0 | AY66: =AQ66+AR66+AT66+AV66+AX66 -> 0 | AZ66: =AP66+AY66 -> 0 | BA66: =AC66+AP66 -> 0 | BB66: =AD66+AY66 -> 0 | BC66: =BA66+BB66 -> 0 | BF66: =BD66+BE66 -> 0 | BG66: =W66*$T$4 -> 0 | BH66: =AB66*$T$4 -> 0 | BI66: =BG66+BH66 -> 0 | BJ66: =BA66+BD66+BG66 -> 0 | BK66: =BB66+BE66+BH66 -> 0 | BL66: =BJ66+BK66 -> 0 | BM66: =BJ66*10% -> 0 | BN66: =(BJ66-BM66)*10% -> 0 | BO66: =(BJ66-BM66)*6% -> 0 | BP66: =(BJ66-BM66)*5% -> 0 | BQ66: =BK66*10% -> 0 | BR66: =(BK66-BQ66)*10% -> 0 | BS66: =(BK66-BQ66)*6% -> 0 | BT66: =(BK66-BQ66)*5% -> 0 | BU66: =BM66+BQ66 -> 0 | BV66: =BN66+BR66 -> 0 | BW66: =BO66+BS66 -> 0 | BX66: =BP66+BT66 -> 0
M67: =I67+J67+K67+L67 -> 0 | R67: =N67+O67+P67+Q67 -> 0 | S67: =E67*I67 -> 0 | T67: =F67*J67 -> 0 | U67: =G67*K67 -> 0 | V67: =H67*L67 -> 0 | W67: =S67+T67+U67+V67 -> 0 | X67: =E67*N67 -> 0 | Y67: =F67*O67 -> 0 | Z67: =G67*P67 -> 0 | AA67: =H67*Q67 -> 0 | AB67: =X67+Y67+Z67+AA67 -> 0 | AC67: =W67 -> 0 | AD67: =AB67 -> 0 | AE67: =AC67+AD67 -> 0 | AI67: =AH67*AC67 -> 0 | AK67: =AJ67*AC67 -> 0 | AM67: =AL67*$T$2 -> 0 | AO67: =AN67*AC67 -> 0 | AP67: =AF67+AG67+AI67+AK67+AM67+AO67 -> 0 | AT67: =AS67*AD67 -> 0 | AV67: =AU67*AD67 -> 0 | AX67: =AW67*$T$2 -> 0 | AY67: =AQ67+AR67+AT67+AV67+AX67 -> 0 | AZ67: =AP67+AY67 -> 0 | BA67: =AC67+AP67 -> 0 | BB67: =AD67+AY67 -> 0 | BC67: =BA67+BB67 -> 0 | BF67: =BD67+BE67 -> 0 | BG67: =W67*$T$4 -> 0 | BH67: =AB67*$T$4 -> 0 | BI67: =BG67+BH67 -> 0 | BJ67: =BA67+BD67+BG67 -> 0 | BK67: =BB67+BE67+BH67 -> 0 | BL67: =BJ67+BK67 -> 0 | BM67: =BJ67*10% -> 0 | BN67: =(BJ67-BM67)*10% -> 0 | BO67: =(BJ67-BM67)*6% -> 0 | BP67: =(BJ67-BM67)*5% -> 0 | BQ67: =BK67*10% -> 0 | BR67: =(BK67-BQ67)*10% -> 0 | BS67: =(BK67-BQ67)*6% -> 0 | BT67: =(BK67-BQ67)*5% -> 0 | BU67: =BM67+BQ67 -> 0 | BV67: =BN67+BR67 -> 0 | BW67: =BO67+BS67 -> 0 | BX67: =BP67+BT67 -> 0
...

Sheet Кальк МШ Ор
C1: "Утверждаю"
C2: Директор ЧУ "Дирекция строящихся
C3: Назарбаев Интеллектуальных школ"
C4: ____________________________ Ш. Риаханов
C5: "____" ________________________ 2014 года
A7: Калькуляция стоимости услуг по сервисному и хозяйственно-бытовому обслуживанию Объекта, расположенного по ул.Орынбор
A9: на 2016 год | C9: тенге
A10: № п/п | B10: Показатель | C10: Сумма
A11: 1 | B11: ФОТ с отчислениями | C11: ='штатка школа Орынб'!Q9+'штатка школа Орынб'!T9+'штатка школа Орынб'!U9 -> 26610746 | BF11: ='штатка школа Орынб'!Q9+'штатка школа Орынб'!T9+'штатка школа Орынб'!U9 -> 26610746 | BG11: ='штатка школа Орынб'!Q9+'штатка школа Орынб'!T9+'штатка школа Орынб'!U9 -> 26610746 | BJ11: =C11+'Кальк Турк без фмн'!D11+'Кальк31 ул (Адм Корп)'!D11+'Кальк31 ул (31)'!D11+'Кальк АУП'!C11 -> #REF! | BK11: =BJ11-#REF!-#REF!-#REF! -> #REF!
A12: 2 | B12: Страхование ГПО работодателя без НДС | C12: =BF12 -> #REF! | BF12: =#REF! -> #REF! | BG12: =#REF! -> #REF! | BJ12: =C12+'Кальк Турк без фмн'!D12+'Кальк31 ул (Адм Корп)'!D12+'Кальк31 ул (31)'!D12+'Кальк АУП'!C12 -> #REF! | BK12: =#REF! -> #REF!
A13: 3 | B13: Медицинское страхование без НДС | C13: =BF13 -> #REF! | BF13: =#REF! -> #REF! | BG13: =#REF! -> #REF! | BJ13: =C13+'Кальк Турк без фмн'!D13+'Кальк31 ул (Адм Корп)'!D13+'Кальк31 ул (31)'!D13+'Кальк АУП'!C13 -> #REF! | BK13: =#REF! -> #REF!
A14: 4 | B14: Услуги банка без НДС | C14: =#REF! -> #REF! | BF14: =#REF! -> #REF! | BG14: =#REF! -> #REF! | BJ14: =C14+'Кальк Турк без фмн'!D14+'Кальк31 ул (Адм Корп)'!D14+'Кальк31 ул (31)'!D14+'Кальк АУП'!C14 -> #REF! | BK14: =#REF! -> #REF!
A15: 5 | B15: Расходы на соц.сферу без НДС | C15: ='[59]соцсфера МШ'!I10/1.12 -> 0
A16: 6 | B16: Услуги по обслуживанию зданий и сооружений без НДС
A17: 7 | B17: Коммунальные услуги без НДС
A18: 6 | B18: Запасы без НДС | C18: =BF18/1.12 -> #REF! | BF18: =моющОрынб!T9+ТМЦОрынб!T9+('гсм школа'!#REF!+'гсм школа'!#REF!+'гсм школа'!#REF!+'гсм школа'!#REF!)/2 -> #REF! | BG18: =моющОрынб!T9+ТМЦОрынб!T9 -> 1559017 | BJ18: =BF18+'Кальк Турк без фмн'!BJ18+'Кальк31 ул (Адм Корп)'!BU18+'Кальк31 ул (31)'!BU18 -> #REF! | BK18: ='гсм школа'!I60+'моющ МБ 2.03.05'!V14+'моющФМН 2.03.05'!V14+'хоз свод'!R9+#REF!+'пр запасы фмн 2.03.09.'!T9+'пр запасы мб 2.03.09.'!T9+моющМШ!R9+хозМШ!T9+'ТМЦ МШ'!R9+моющОрынб!R9+ТМЦОрынб!R9+хозАДМ!T9+#REF!+'моющИНТ 2.03.05.'!V9+хозИНТ!T7+'хоз кот и ул освещ'!T7+тмцИНТ!R9 -> #REF!
A19: 9 | B19: Услуги по обучению тех персонала без НДС
A20: 10 | B20: Услуги по сервисному обслуживанию пожарной сигнализации, без НДС
A21: 11 | B21: Услуги дератизации и утилизации, нотариальные услуги без НДС
A22: 12 | B22: КПН по безвозмездно полученному имуществу (без НДС)
B23: ИТОГО без НДС 2016 года) | C23: =ROUND(SUM(C11:C22),2) -> #REF! | D23: =(#REF!+#REF!)*1.12 -> #REF! | E23: =(#REF!+#REF!)*1.12 -> #REF! | F23: =#REF!*1.12 -> #REF! | BJ23: =('Кальк Турк без фмн'!D19+'Кальк31 ул (Адм Корп)'!D19+'Кальк31 ул (31)'!D19)*1.12 -> #REF! | BK23: =#REF! -> #REF!
B24: ИТОГО без НДС (в месяц) | C24: =ROUND(C23/4,2) -> #REF! | D24: =C23*1.12 -> #REF! | BJ24: =('Кальк31 ул (Адм Корп)'!D20+'Кальк31 ул (31)'!D20)*1.12 -> #REF! | BK24: =#REF! -> #REF!
B25: Площадь здания по ул.Орынбор | C25: =26303+3291 -> 29594 | BJ25: ='Кальк31 ул (31)'!D21 -> 14430 | BK25: =#REF!+#REF! -> #REF!
B26: Итого полезная площадь объектов | C26: =C25 -> 29594
B27: Цена за 1 кв.м. без НДС | C27: =ROUND(C24/C26,2) -> #REF!
B28: ='[59]Кальк31 ул (2)'!B31 -> Цена за 1 кв.м. в месяц без НДС (Административные расходы) | C28: ='Кальк АУП'!C34 -> #REF!
B29: ='[59]Кальк31 ул (2)'!B32 -> ИТОГО Цена за 1 кв.м. без НДС | C29: =C28+C27 -> #REF!
B30: НДС | C30: =ROUND(C29*12%,2) -> #REF!
B31: Цена с НДС за 1 кв.м. | C31: =C30+C29 -> #REF! | D31: за 1 кв.м. у фмн и хбн
B32: Сумма расходов на Международную школу (в месяц) | C32: =ROUND(C31*C25,2) -> #REF!
B33: Сумма расходов на Международную школу (2016 год) | C33: =C32*4 -> #REF!
BF35: =C33+'Кальк Турк без фмн'!D39+'Кальк31 ул (Адм Корп)'!D33+'Кальк31 ул (31)'!D36+'Кальк31 ул (31)'!D37 -> #REF!
A36: Руководитель службы оранизации | F36: Н. Сакенов | BF36: 433505396
A37: обслуживания комплекса в г. Астана | C37: С. Алимханов | BF37: =BF35-BF36 -> #REF!
A39: Старший менеджер-экономист | C39: А. Алькеева | F39: М. Баянжанова
A41: Исполнитель | C41: А. Какимова | F41: А. Какимова

Sheet Кальк МШ Ор 2017-2018
C1: "Утверждаю"
C2: Директор ЧУ "Дирекция строящихся
C3: Назарбаев Интеллектуальных школ"
C4: ____________________________ Ш. Риаханов
C5: "____" ________________________ 2014 года
A7: Калькуляция стоимости услуг по сервисному и хозяйственно-бытовому обслуживанию Объекта, расположенного по ул.Орынбор
A9: на 2017-2018 год | C9: тенге
A10: № п/п | B10: Показатель | C10: Сумма 2017 год | BF10: Сумма 2018 год
A11: 1 | B11: ФОТ с отчислениями | C11: ='штатка школа Орынб 2017-2018'!Q9+'штатка школа Орынб 2017-2018'!T9+'штатка школа Орынб 2017-2018'!U9 -> 94615987 | BF11: =C11 -> 94615987 | BH11: ='штатка школа Орынб'!Q9+'штатка школа Орынб'!T9+'штатка школа Орынб'!U9 -> 26610746
A12: 2 | B12: Страхование ГПО работодателя без НДС | C12: =#REF!+#REF! -> #REF! | BF12: =C12 -> #REF! | BG12: =#REF! -> #REF! | BH12: =#REF! -> #REF!
A13: 3 | B13: Медицинское страхование без НДС | C13: =#REF!+#REF! -> #REF! | BF13: =C13 -> #REF! | BG13: =#REF! -> #REF! | BH13: =#REF! -> #REF!
A14: 4 | B14: Услуги банка без НДС | C14: ='штатка школа Орынб 2017-2018'!Q9*0.81*0.1% -> 69735.168 | BF14: =C14 -> 69735.168 | BH14: =#REF! -> #REF!
A15: 5 | B15: Обучение техперсонала | C15: =#REF!/1.12 -> #REF! | BF15: =#REF!/1.12 -> #REF! | BJ15: =BF15*1.12 -> #REF!
A16: 6 | B16: Услуги по обслуживанию зданий и сооружений без НДС
A17: 7 | B17: Коммунальные услуги без НДС
A18: 6 | B18: Запасы без НДС | C18: =BH18/1.12 -> #REF! | BF18: =(хозМШ!T9+моющОрынб!AB9+ТМЦОрынб!Z9+'гсм школа'!#REF!+'гсм школа'!#REF!+'гсм школа'!#REF!+'гсм школа'!#REF!)/1.12 -> #REF! | BG18: =моющОрынб!T9+ТМЦОрынб!T9 -> 1559017 | BH18: =моющОрынб!AB9+хозМШ!V9+'ТМЦ МШ'!R9+'гсм школа'!#REF!+'гсм школа'!#REF!+'гсм школа'!#REF!+'гсм школа'!#REF! -> #REF!
A19: 9 | B19: Услуги по обучению тех персонала без НДС
A20: 10 | B20: Услуги по сервисному обслуживанию пожарной сигнализации, без НДС
A21: 11 | B21: Услуги дератизации и утилизации, нотариальные услуги без НДС
A22: 12 | B22: КПН по безвозмездно полученному имуществу (без НДС)
B23: ИТОГО без НДС 2016 года) | C23: =ROUND(SUM(C11:C22),2) -> #REF! | D23: =(#REF!+#REF!)*1.12 -> #REF! | E23: =(#REF!+#REF!)*1.12 -> #REF! | F23: =#REF!*1.12 -> #REF! | BF23: =ROUND(SUM(BF11:BF22),2) -> #REF!
B24: ИТОГО без НДС (в месяц) | C24: =ROUND(C23/12,2) -> #REF! | D24: =C23*1.12 -> #REF! | BF24: =ROUND(BF23/12,2) -> #REF!
B25: Площадь здания по ул.Орынбор | C25: =26303+3291 -> 29594 | BF25: =26303+3291 -> 29594
B26: Итого полезная площадь объектов | C26: =C25 -> 29594 | BF26: =BF25 -> 29594
B27: Цена за 1 кв.м. без НДС | C27: =ROUND(C24/C26,2) -> #REF! | BF27: =ROUND(BF24/BF26,2) -> #REF!
B28: ='[59]Кальк31 ул (2)'!B31 -> Цена за 1 кв.м. в месяц без НДС (Административные расходы) | C28: ='Кальк АУП'!C34 -> #REF! | BF28: =C28 -> #REF!
B29: ='[59]Кальк31 ул (2)'!B32 -> ИТОГО Цена за 1 кв.м. без НДС | C29: =C28+C27 -> #REF! | BF29: =BF28+BF27 -> #REF!
B30: НДС | C30: =ROUND(C29*12%,2) -> #REF! | BF30: =ROUND(BF29*12%,2) -> #REF!
B31: Цена с НДС за 1 кв.м. | C31: =C30+C29 -> #REF! | D31: за 1 кв.м. у фмн и хбн | BF31: =BF30+BF29 -> #REF!
B32: Сумма расходов на Международную школу (в месяц) | C32: =ROUND(C31*C25,2) -> #REF! | BF32: =ROUND(BF31*BF25,2) -> #REF!
B33: Сумма расходов на Международную школу (2017-2018 год) | C33: =C32*12 -> #REF! | BF33: =BF32*12 -> #REF!
A36: Руководитель службы оранизации | F36: Н. Сакенов
A37: обслуживания комплекса в г. Астана | C37: С. Алимханов
A39: Старший менеджер-экономист | C39: А. Алькеева | F39: М. Баянжанова
A41: Исполнитель | C41: А. Какимова | F41: А. Какимова
BF43: 4.4222595e+08
BF44: =BF11+BF12+BF13+BF14+BF15*1.12+BF18*1.12+'Кальк31 ул (Адм Корп) 2017-2018'!BZ11+'Кальк31 ул (Адм Корп) 2017-2018'!BZ12+'Кальк31 ул (Адм Корп) 2017-2018'!BZ13+'Кальк31 ул (Адм Корп) 2017-2018'!BZ14+'Кальк31 ул (Адм Корп) 2017-2018'!BZ18*1.12+'Кальк31 ул (Адм Корп) 2017-2018'!BZ19*1.12+'Кальк31 2017-2018'!BX11+'Кальк31 2017-2018'!BX12+'Кальк31 2017-2018'!BX13+'Кальк31 2017-2018'!BX14+'Кальк31 2017-2018'!BX18*1.12+'Кальк31 2017-2018'!BX19*1.12+'Кальк31 2017-2018'!BX21+C28*C26*12+'Кальк31 ул (Адм Корп) 2017-2018'!BZ28*'Кальк31 ул (Адм Корп) 2017-2018'!BZ26*12+'Кальк31 2017-2018'!BX30*'Кальк31 2017-2018'!BX28*12 -> #REF!
BF46: =BF28*BF25 -> #REF!
BF47: ='Кальк31 ул (Адм Корп) 2017-2018'!BZ28*'Кальк31 ул (Адм Корп) 2017-2018'!BZ26 -> #REF!
BF48: ='Кальк31 2017-2018'!BX30*'Кальк31 2017-2018'!BX28 -> #REF!
...

Sheet Кальк Турк с фмн
D1: "Утверждаю" | G1: "Утверждаю"
D2: Директор ЧУ "Дирекция строящихся | G2: Директор ЧУ "Дирекция строящихся
D3: Назарбаев Интеллектуальных школ" | G3: Назарбаев Интеллектуальных школ"
D4: ____________________________ Ш. Риаханов | G4: ____________________________ Ш. Риаханов
D5: "____" ________________________ 2014 года | G5: "____" ________________________ 2014 года
A7: Калькуляция стоимости услуг по сервисному и хозяйственно-бытовому обслуживанию Объекта в г. Астана, расположенного адресу: г. Астана ул.Туркестан, 2
A9: на 2016 год | G9: тенге
A10: № п/п | B10: Показатель | C10: Сумма | D10: Сумма | E10: калькуляция стоимости по общим расходам для школы | F10: калькуляция на доп.затраты | G10: калькуляция на доп.затраты по Международной школе
A11: 1 | B11: ФОТ с отчислениями | C11: =E11+F11+G11 -> 52264044 | D11: ='штатка школа МШ'!Q9+'штатка школа МШ'!T9+'штатка школа МШ'!U9 -> 0 | E11: ='[59]ФОТ МШ'!AX21+'[59]ФОТ МШ'!BA21+'[59]ФОТ МШ'!BB21 -> 52264044 | BJ11: ='штатка школа МШ'!Q9+'штатка школа МШ'!T9+'штатка школа МШ'!U9 -> 0
A12: 2 | B12: Страхование ГПО работодателя без НДС | C12: =E12+F12+G12 -> #REF! | D12: =#REF! -> #REF! | E12: ='[59]ГПО ФМН'!G48-'[59]ГПО МШ '!CD40 -> #REF! | BJ12: =#REF! -> #REF!
A13: 3 | B13: Медицинское страхование без НДС | C13: =E13+F13+G13 -> 840000 | D13: =#REF! -> #REF! | E13: =('[59]мед страх'!C16-'[59]ФОТ МШ'!C16)*'[59]мед страх'!F12 -> 840000 | BJ13: =#REF! -> #REF! | BK13: =21*60000 -> 1260000
A14: 4 | B14: Услуги банка без НДС | C14: =E14+F14+G14 -> 38520 | D14: =#REF! -> #REF! | E14: ='[59]банк услуги'!F9 -> 38520 | BJ14: =#REF! -> #REF!
A15: 5 | B15: Расходы на соц.сферу без НДС | C15: =E15+F15+G15 -> 0 | D15: =E15 -> 0
A16: 6 | B16: Услуги по обслуживанию зданий и сооружений без НДС | C16: =E16+F16+G16 -> 0 | D16: =E16 -> 0
A17: 7 | B17: Коммунальные услуги без НДС | C17: =E17+F17+G17 -> 0 | D17: =E17 -> 0
A18: 8 | B18: Запасы без НДС | C18: =E18+F18+G18 -> 6031371.2 | D18: =BJ18/1.12 -> #REF! | F18: 6031371.2 | BJ18: =моющМШ!T9+хозМШ!V9+'ТМЦ МШ'!T9+'гсм школа'!#REF!+'гсм школа'!#REF!+'гсм школа'!#REF!+'гсм школа'!#REF! -> #REF! | BK18: =моющМШ!T9+хозМШ!V9+'ТМЦ МШ'!T9+'гсм школа'!#REF!+'гсм школа'!#REF!+'гсм школа'!#REF!+'гсм школа'!#REF! -> #REF!
A19: 9 | B19: Услуги по обучению без НДС | C19: =E19+F19+G19 -> 11607.143 | D19: =BJ19/1.12 -> #REF! | F19: 11607.143 | BJ19: =#REF! -> #REF! | BK19: =#REF! -> #REF!
A20: 10 | B20: Прочие услуги, без НДС | C20: =E20+F20+G20 -> 0
A21: 11 | B21: Услуги дератизации и утилизации, нотариальные услуги без НДС | C21: =E21+F21+G21 -> 0
A22: 12 | B22: Обслуживание зданий (фильтры, счетчики) (без НДС) | C22: =E22+F22+G22 -> 0
A23: 12 | B23: КПН по безвозмездно полученному имуществу (без НДС) | C23: =E23+F23+G23 -> 0
B24: ИТОГО без НДС (2016 год) | C24: =SUM(C11:C23) -> #REF! | D24: =SUM(D11:D23) -> #REF! | E24: =SUM(E11:E23) -> #REF! | F24: =SUM(F11:F23) -> 6042978.4 | G24: =SUM(G11:G23) -> 0 | H24: =(#REF!+E24)*1.12 -> #REF! | I24: =(#REF!+E24)*1.12 -> #REF! | J24: =E24*1.12 -> #REF!
B25: ИТОГО без НДС (в месяц) | C25: =C24/5 -> #REF! | D25: =D24/12 -> #REF! | E25: =E24/5 -> #REF! | F25: =F24/5 -> 1208595.7 | G25: =G24/5 -> 0 | H25: =C24*1.12 -> #REF!
B26: Площадь здания на Туркистан (2016 год) | C26: 12104 | D26: =E26 -> 12104 | E26: =E28+E29 -> 12104 | F26: 12104 | G26: =G28+G29 -> 0
B27: в том числе:
B28: -Интеллектуальная школа в г.Астана (ФМН) | C28: 5447 | D28: =E28 -> 5447 | E28: =C28 -> 5447 | F28: =E28 -> 5447
B29: -Международная школа в г. Астана | C29: =C26-C28 -> 6657 | D29: =E29 -> 6657 | E29: =C29 -> 6657 | F29: =E29 -> 6657
B30: Итого полезная площадь объектов | C30: =C26 -> 12104 | D30: =D29+D28 -> 12104 | E30: =C30 -> 12104 | F30: =F26 -> 12104 | G30: =G26 -> 0
B31: Цена за 1 кв.м. без НДС | D31: =ROUND(D25/D30,2) -> #REF! | E31: =E25/E30 -> #REF! | F31: =F25/F30 -> 99.850931 | G31: =G25/G30 -> #DIV/0!
B32: ='[59]Кальк31 ул (2)'!B31 -> Цена за 1 кв.м. в месяц без НДС (Административные расходы) | D32: ='Кальк АУП'!C34 -> #REF!
B33: ='[59]Кальк31 ул (2)'!B32 -> ИТОГО Цена за 1 кв.м. без НДС | D33: =D32+D31 -> #REF!
B34: НДС | D34: =ROUND(D33*12%,2) -> #REF! | E34: =E31*12% -> #REF! | F34: =F31*12% -> 11.982112 | G34: =G31*12% -> #DIV/0!
B35: Цена с НДС за 1 кв.м. | D35: =D33+D34 -> #REF! | E35: =E34+E31 -> #REF! | F35: =F34+F31 -> 111.83304 | G35: =G34+G31 -> #DIV/0! | H35: за 1 кв.м. у фмн и хбн
B36: Сумма расходов на Интеллектуальную школу в г.Астана (ФМН) (в месяц) | C36: =E36+F36 -> #REF! | D36: =D35*D28 -> #REF! | E36: =E35*E28 -> #REF! | F36: =F35*F28 -> 609154.59 | G36: =G38/5 -> 0 | H36: за 1 кв.м. у Туркистан
B37: Сумма расходов на Международную школу (в месяц) | C37: =E37+G37 -> #REF! | D37: =D35*D29 -> #REF! | E37: =E35*E29 -> #REF! | F37: =F35*F29 -> 744472.57 | G37: =ROUND(G35*G29,0) -> #DIV/0!
